{"text_format":"1","workbook":"xlsx","n_sheets":6,"sheets":["A95543","B45778","M32982","S66532","intern bestelformulier","printblad"],"not_rendered":{"charts":0,"images":4,"macros":1,"external_links":1,"defined_names":2,"comments":0,"pivot_tables":0},"unopened":[],"bounds":{"document_bytes":16777216,"sheet_cells":100000,"rows_first":2000,"rows_last":500,"rows_between":2000,"halvings":0,"cell_chars":16384,"cell_head_chars":4096},"cells_cut":0,"cells_raw":0,"read":"whole","date_system":"1900"}

{"sheet":"A95543","index":0,"n_rows":20,"n_cols":9,"rows_kept":20,"cut":false,"hidden":false,"merged":[[8,6,16,8],[2,2,2,3],[9,3,9,4],[3,2,3,3],[2,4,2,8],[3,4,3,8],[5,2,5,8],[6,2,6,8],[8,3,8,4],[11,2,11,3],[12,2,12,3],[13,2,13,3],[23,3,23,5],[24,3,24,5],[18,3,18,5],[19,3,19,5],[20,3,20,5],[21,3,21,5],[22,3,22,5]]}
[]
[]
[null,null,"Kandidaatnaam:"]
[null,null,"Kandidaatnummer:"]
[]
[null,null,"voorraadkaart"]
[null,null,"artikelgroep grond- en meststoffen"]
[]
[null,null,"artikelnr.","omschrijving"]
[null,null,"A95543","Aanplantgrond"]
[]
[null,null,"maximumvoorraad: ",null,25]
[null,null,"minimumvoorraad: ",null,5]
[null,null,"besteleenheid: ",null,5]
[]
[]
[]
[]
[null,null,"datum","omschrijving",null,null,"bij  ","af","saldo"]
[null,null,"2021-03-01","saldo vorige periode",null,null,null,null,23]

{"sheet":"B45778","index":1,"n_rows":20,"n_cols":9,"rows_kept":20,"cut":false,"hidden":false,"merged":[[22,3,22,5],[23,3,23,5],[24,3,24,5],[8,6,16,8],[9,3,9,4],[12,2,12,3],[13,2,13,3],[11,2,11,3],[18,3,18,5],[19,3,19,5],[20,3,20,5],[21,3,21,5],[8,3,8,4],[6,2,6,8],[2,2,2,3],[3,2,3,3],[2,4,2,8],[3,4,3,8],[5,2,5,8]]}
[]
[]
[null,null,"Kandidaatnaam:",null,{"$f":"'A95543'!E3:I3","v":0}]
[null,null,"Kandidaatnummer:",null,{"$f":"'A95543'!E4:I4","v":0}]
[]
[null,null,"voorraadkaart"]
[null,null,"artikelgroep grond- en meststoffen"]
[]
[null,null,"artikelnr.","omschrijving"]
[null,null,"B45778","Boomschors"]
[]
[null,null,"maximumvoorraad: ",null,50]
[null,null,"minimumvoorraad: ",null,10]
[null,null,"besteleenheid: ",null,5]
[]
[]
[]
[]
[null,null,"datum","omschrijving",null,null,"bij  ","af","saldo"]
[null,null,"2021-03-01","saldo vorige periode",null,null,null,null,45]

{"sheet":"M32982","index":2,"n_rows":20,"n_cols":9,"rows_kept":20,"cut":false,"hidden":false,"merged":[[23,3,23,5],[24,3,24,5],[8,6,16,8],[5,2,5,8],[9,3,9,4],[8,3,8,4],[11,2,11,3],[12,2,12,3],[13,2,13,3],[18,3,18,5],[19,3,19,5],[20,3,20,5],[21,3,21,5],[22,3,22,5],[2,2,2,3],[3,2,3,3],[2,4,2,8],[3,4,3,8],[6,2,6,8]]}
[]
[]
[null,null,"Kandidaatnaam:",null,{"$f":"'A95543'!E3:I3","v":0}]
[null,null,"Kandidaatnummer:",null,{"$f":"'A95543'!E4:I4","v":0}]
[]
[null,null,"voorraadkaart"]
[null,null,"artikelgroep grond- en meststoffen"]
[]
[null,null,"artikelnr.","omschrijving"]
[null,null,"M32982","Mestkorrels"]
[]
[null,null,"maximumvoorraad: ",null,40]
[null,null,"minimumvoorraad: ",null,10]
[null,null,"besteleenheid: ",null,8]
[]
[]
[]
[]
[null,null,"datum","omschrijving",null,null,"bij  ","af","saldo"]
[null,null,"2021-03-01","saldo vorige periode",null,null,null,null,30]

{"sheet":"S66532","index":3,"n_rows":20,"n_cols":9,"rows_kept":20,"cut":false,"hidden":false,"merged":[[22,3,22,5],[23,3,23,5],[24,3,24,5],[8,6,16,8],[9,3,9,4],[12,2,12,3],[13,2,13,3],[11,2,11,3],[18,3,18,5],[19,3,19,5],[20,3,20,5],[21,3,21,5],[8,3,8,4],[6,2,6,8],[2,2,2,3],[3,2,3,3],[2,4,2,8],[3,4,3,8],[5,2,5,8]]}
[]
[]
[null,null,"Kandidaatnaam:",null,{"$f":"'A95543'!E3:I3","v":0}]
[null,null,"Kandidaatnummer:",null,{"$f":"'A95543'!E4:I4","v":0}]
[]
[null,null,"voorraadkaart"]
[null,null,"artikelgroep grond- en meststoffen"]
[]
[null,null,"artikelnr.","omschrijving"]
[null,null,"S66532","Siertuincompost"]
[]
[null,null,"maximumvoorraad: ",null,30]
[null,null,"minimumvoorraad: ",null,3]
[null,null,"besteleenheid: ",null,6]
[]
[]
[]
[]
[null,null,"datum","omschrijving",null,null,"bij  ","af","saldo"]
[null,null,"2021-03-01","saldo vorige periode",null,null,null,null,28]

{"sheet":"intern bestelformulier","index":4,"n_rows":13,"n_cols":10,"rows_kept":13,"cut":false,"hidden":false,"merged":[[2,4,2,9],[3,4,3,9],[8,3,8,4],[5,2,5,9],[7,8,7,9],[9,3,9,4],[10,3,10,4],[6,2,6,9],[11,3,11,4],[12,3,12,4]]}
[]
[]
[null,null,"Kandidaatnaam:",null,{"$f":"'A95543'!E3:I3","v":0}]
[null,null,"Kandidaatnummer:",null,{"$f":"'A95543'!E4:I4","v":0}]
[]
[null,null,"intern bestelformulier"]
[null,null,"artikelgroep grond- en meststoffen"]
[]
[null,null,"artikelnr.","omschrijving",null,"maximum voorraad","minimum voorraad","bestel-eenheid","saldo","bestel-advies \nin stuks"]
[null,null,"A95543","Aanplantgrond",null,25,5,5,23]
[null,null,"B45778","Boomschors",null,50,10,5,45]
[null,null,"M32982","Mestkorrels",null,40,10,8,30]
[null,null,"S66532","Siertuincompost",null,30,3,6,28]

{"sheet":"printblad","index":5,"n_rows":53,"n_cols":10,"rows_kept":53,"cut":false,"hidden":true,"merged":[[17,3,17,4],[25,3,25,4],[26,3,26,4],[28,3,28,4],[2,4,2,7],[5,2,5,7],[3,4,3,7],[10,3,10,4],[7,3,7,4],[8,3,8,4],[12,3,12,4],[13,3,13,4],[14,3,14,4],[11,3,11,4],[16,3,16,4],[23,3,23,4],[19,3,19,4],[38,3,38,4],[37,3,37,4],[35,3,35,4],[20,3,20,4],[21,3,21,4],[22,3,22,4],[31,3,31,4],[32,3,32,4],[34,3,34,4],[29,3,29,4],[30,3,30,4],[45,2,45,6],[51,3,51,4],[39,3,39,4],[40,3,40,4],[41,3,41,4],[44,2,44,6],[47,3,47,4],[48,3,48,4],[49,3,49,4],[50,3,50,4]]}
[null,"B","C","D","E","F","G","H"]
[2]
[3,null,{"$f":"'A95543'!C3:D3","v":"Kandidaatnaam:"},null,{"$f":"'A95543'!E3:G3","v":0}]
[4,null,{"$f":"'A95543'!C4:D4","v":"Kandidaatnummer:"},null,{"$f":"'A95543'!E4:G4","v":0}]
[5]
[6,null,"voorraadkaarten",null,null,null,null,null,null,"formules"]
[]
[9,null,"artikelnr.","omschrijving"]
[10,null,{"$f":"'A95543'!C10:D10","v":"A95543"},{"$f":"'A95543'!D10:E10","v":"Aanplantgrond"}]
[]
[19,null,"datum","omschrijving",null,"bij","af","saldo"]
[20,null,{"$f":"IF('A95543'!C20=\"\",\"\",'A95543'!C20)","v":"2021-03-01"},{"$f":"IF('A95543'!D20:E20=\"\",\"\",'A95543'!D20:E20)","v":"saldo vorige periode"},null,{"$f":"IF('A95543'!G20=\"\",\"\",'A95543'!G20)","v":""},{"$f":"IF('A95543'!H20=\"\",\"\",'A95543'!H20)","v":""},{"$f":"IF('A95543'!I20=\"\",\"\",'A95543'!I20)","v":23}]
[21,null,{"$f":"IF('A95543'!C21=\"\",\"\",'A95543'!C21)","v":""},{"$f":"IF('A95543'!D21:E21=\"\",\"\",'A95543'!D21:E21)","v":""},null,{"$f":"IF('A95543'!G21=\"\",\"\",'A95543'!G21)","v":""},{"$f":"IF('A95543'!H21=\"\",\"\",'A95543'!H21)","v":""},{"$f":"IF('A95543'!I21=\"\",\"\",'A95543'!I21)","v":""}]
[20,null,{"$f":"IF('A95543'!C22=\"\",\"\",'A95543'!C22)","v":""},{"$f":"IF('A95543'!D22:E22=\"\",\"\",'A95543'!D22:E22)","v":""},null,{"$f":"IF('A95543'!G22=\"\",\"\",'A95543'!G22)","v":""},{"$f":"IF('A95543'!H22=\"\",\"\",'A95543'!H22)","v":""},{"$f":"IF('A95543'!I22=\"\",\"\",'A95543'!I22)","v":""}]
[23,null,{"$f":"IF('A95543'!C23=\"\",\"\",'A95543'!C23)","v":""},{"$f":"IF('A95543'!D23:E23=\"\",\"\",'A95543'!D23:E23)","v":""},null,{"$f":"IF('A95543'!G23=\"\",\"\",'A95543'!G23)","v":""},{"$f":"IF('A95543'!H23=\"\",\"\",'A95543'!H23)","v":""},{"$f":"IF('A95543'!I23=\"\",\"\",'A95543'!I23)","v":""}]
[]
[9,null,"artikelnr.","omschrijving"]
[10,null,{"$f":"'B45778'!C10","v":"B45778"},{"$f":"'B45778'!D10","v":"Boomschors"},{"$f":"'B45778'!E10","v":0}]
[]
[19,null,"datum","omschrijving",null,"bij","af","saldo"]
[20,null,{"$f":"IF('B45778'!C20=\"\",\"\",'B45778'!C20)","v":"2021-03-01"},{"$f":"IF('B45778'!D20:E20=\"\",\"\",'B45778'!D20:E20)","v":"saldo vorige periode"},null,{"$f":"IF('B45778'!G20=\"\",\"\",'B45778'!G20)","v":""},{"$f":"IF('B45778'!H20=\"\",\"\",'B45778'!H20)","v":""},{"$f":"IF('B45778'!I20=\"\",\"\",'B45778'!I20)","v":45}]
[21,null,{"$f":"IF('B45778'!C21=\"\",\"\",'B45778'!C21)","v":""},{"$f":"IF('B45778'!D21:E21=\"\",\"\",'B45778'!D21:E21)","v":""},null,{"$f":"IF('B45778'!G21=\"\",\"\",'B45778'!G21)","v":""},{"$f":"IF('B45778'!H21=\"\",\"\",'B45778'!H21)","v":""},{"$f":"IF('B45778'!I21=\"\",\"\",'B45778'!I21)","v":""}]
[20,null,{"$f":"IF('B45778'!C22=\"\",\"\",'B45778'!C22)","v":""},{"$f":"IF('B45778'!D22:E22=\"\",\"\",'B45778'!D22:E22)","v":""},null,{"$f":"IF('B45778'!G22=\"\",\"\",'B45778'!G22)","v":""},{"$f":"IF('B45778'!H22=\"\",\"\",'B45778'!H22)","v":""},{"$f":"IF('B45778'!I22=\"\",\"\",'B45778'!I22)","v":""}]
[23,null,{"$f":"IF('B45778'!C23=\"\",\"\",'B45778'!C23)","v":""},{"$f":"IF('B45778'!D23:E23=\"\",\"\",'B45778'!D23:E23)","v":""},null,{"$f":"IF('B45778'!G23=\"\",\"\",'B45778'!G23)","v":""},{"$f":"IF('B45778'!H23=\"\",\"\",'B45778'!H23)","v":""},{"$f":"IF('B45778'!I23=\"\",\"\",'B45778'!I23)","v":""}]
[]
[9,null,"artikelnr.","omschrijving"]
[10,null,{"$f":"'M32982'!C10","v":"M32982"},{"$f":"'M32982'!D10:E10","v":"Mestkorrels"}]
[]
[19,null,"datum","omschrijving",null,"bij","af","saldo"]
[20,null,{"$f":"IF('M32982'!C20=\"\",\"\",'M32982'!C20)","v":"2021-03-01"},{"$f":"IF('M32982'!D20:E20=\"\",\"\",'M32982'!D20:E20)","v":"saldo vorige periode"},null,{"$f":"IF('M32982'!G20=\"\",\"\",'M32982'!G20)","v":""},{"$f":"IF('M32982'!H20=\"\",\"\",'M32982'!H20)","v":""},{"$f":"IF('M32982'!I20=\"\",\"\",'M32982'!I20)","v":30}]
[21,null,{"$f":"IF('M32982'!C21=\"\",\"\",'M32982'!C21)","v":""},{"$f":"IF('M32982'!D21:E21=\"\",\"\",'M32982'!D21:E21)","v":""},null,{"$f":"IF('M32982'!G21=\"\",\"\",'M32982'!G21)","v":""},{"$f":"IF('M32982'!H21=\"\",\"\",'M32982'!H21)","v":""},{"$f":"IF('M32982'!I21=\"\",\"\",'M32982'!I21)","v":""}]
[20,null,{"$f":"IF('M32982'!C22=\"\",\"\",'M32982'!C22)","v":""},{"$f":"IF('M32982'!D22:E22=\"\",\"\",'M32982'!D22:E22)","v":""},null,{"$f":"IF('M32982'!G22=\"\",\"\",'M32982'!G22)","v":""},{"$f":"IF('M32982'!H22=\"\",\"\",'M32982'!H22)","v":""},{"$f":"IF('M32982'!I22=\"\",\"\",'M32982'!I22)","v":""}]
[23,null,{"$f":"IF('M32982'!C23=\"\",\"\",'M32982'!C23)","v":""},{"$f":"IF('M32982'!D23:E23=\"\",\"\",'M32982'!D23:E23)","v":""},null,{"$f":"IF('M32982'!G23=\"\",\"\",'M32982'!G23)","v":""},{"$f":"IF('M32982'!H23=\"\",\"\",'M32982'!H23)","v":""},{"$f":"IF('M32982'!I23=\"\",\"\",'M32982'!I23)","v":""}]
[]
[9,null,"artikelnr.","omschrijving"]
[10,null,{"$f":"'S66532'!C10","v":"S66532"},{"$f":"'S66532'!D10:E10","v":"Siertuincompost"}]
[]
[19,null,"datum","omschrijving",null,"bij","af","saldo"]
[20,null,{"$f":"IF('S66532'!C20=\"\",\"\",'S66532'!C20)","v":"2021-03-01"},{"$f":"IF('S66532'!D20:E20=\"\",\"\",'S66532'!D20:E20)","v":"saldo vorige periode"},null,{"$f":"IF('S66532'!G20=\"\",\"\",'S66532'!G20)","v":""},{"$f":"IF('S66532'!H20=\"\",\"\",'S66532'!H20)","v":""},{"$f":"IF('S66532'!I20=\"\",\"\",'S66532'!I20)","v":28}]
[21,null,{"$f":"IF('S66532'!C21=\"\",\"\",'S66532'!C21)","v":""},{"$f":"IF('S66532'!D21:E21=\"\",\"\",'S66532'!D21:E21)","v":""},null,{"$f":"IF('S66532'!G21=\"\",\"\",'S66532'!G21)","v":""},{"$f":"IF('S66532'!H21=\"\",\"\",'S66532'!H21)","v":""},{"$f":"IF('S66532'!I21=\"\",\"\",'S66532'!I21)","v":""}]
[20,null,{"$f":"IF('S66532'!C22=\"\",\"\",'S66532'!C22)","v":""},{"$f":"IF('S66532'!D22:E22=\"\",\"\",'S66532'!D22:E22)","v":""},null,{"$f":"IF('S66532'!G22=\"\",\"\",'S66532'!G22)","v":""},{"$f":"IF('S66532'!H22=\"\",\"\",'S66532'!H22)","v":""},{"$f":"IF('S66532'!I22=\"\",\"\",'S66532'!I22)","v":""}]
[23,null,{"$f":"IF('S66532'!C23=\"\",\"\",'S66532'!C23)","v":""},{"$f":"IF('S66532'!D23:E23=\"\",\"\",'S66532'!D23:E23)","v":""},null,{"$f":"IF('S66532'!G23=\"\",\"\",'S66532'!G23)","v":""},{"$f":"IF('S66532'!H23=\"\",\"\",'S66532'!H23)","v":""},{"$f":"IF('S66532'!I23=\"\",\"\",'S66532'!I23)","v":""}]
[]
[]
[6,null,{"$f":"'intern bestelformulier'!C6:J6","v":"intern bestelformulier"}]
[7,null,{"$f":"'intern bestelformulier'!C7:J7","v":"artikelgroep grond- en meststoffen"}]
[8]
[9,null,{"$f":"'intern bestelformulier'!C9","v":"artikelnr."},{"$f":"'intern bestelformulier'!D9","v":"omschrijving"},null,{"$f":"'intern bestelformulier'!I9","v":"saldo"},{"$f":"'intern bestelformulier'!J9","v":"bestel-advies \nin stuks"}]
[10,null,{"$f":"'intern bestelformulier'!C10","v":"A95543"},{"$f":"'intern bestelformulier'!D10","v":"Aanplantgrond"},null,{"$f":"'intern bestelformulier'!I10","v":23},{"$f":"'intern bestelformulier'!J10","v":0}]
[11,null,{"$f":"'intern bestelformulier'!C11","v":"B45778"},{"$f":"'intern bestelformulier'!D11","v":"Boomschors"},null,{"$f":"'intern bestelformulier'!I11","v":45},{"$f":"'intern bestelformulier'!J11","v":0}]
[12,null,{"$f":"'intern bestelformulier'!C12","v":"M32982"},{"$f":"'intern bestelformulier'!D12","v":"Mestkorrels"},null,{"$f":"'intern bestelformulier'!I12","v":30},{"$f":"'intern bestelformulier'!J12","v":0}]
[13,null,{"$f":"'intern bestelformulier'!C13","v":"S66532"},{"$f":"'intern bestelformulier'!D13","v":"Siertuincompost"},null,{"$f":"'intern bestelformulier'!I13","v":28},{"$f":"'intern bestelformulier'!J13","v":0}]
[14]